BEGIN:VCALENDAR
VERSION:2.0
PRODID:spatie/icalendar-generator
NAME:Booster Allstars Calendar
X-WR-CALNAME:Booster Allstars Calendar
REFRESH-INTERVAL;VALUE=DURATION:PT30M
X-PUBLISHED-TTL:PT30M
BEGIN:VTIMEZONE
TZID:America/Chicago
BEGIN:STANDARD
DTSTART:20231105T010000
TZOFFSETFROM:-0500
TZOFFSETTO:-0600
END:STANDARD
BEGIN:DAYLIGHT
DTSTART:20240310T010000
TZOFFSETFROM:-0600
TZOFFSETTO:-0500
END:DAYLIGHT
END:VTIMEZONE
BEGIN:VTIMEZONE
TZID:UTC
BEGIN:STANDARD
DTSTART:20250726T001028
TZOFFSETFROM:+0000
TZOFFSETTO:+0000
END:STANDARD
END:VTIMEZONE
BEGIN:VEVENT
UID:event-159465@boosterhuballstar.boosterhub.com
DTSTAMP:20260422T001028Z
SUMMARY:Test Event Shared (updated)
DESCRIPTION:
LOCATION:
DTSTART;TZID=America/Chicago:20240126T040000
DTEND;TZID=America/Chicago:20240126T120000
END:VEVENT
END:VCALENDAR